Package: mbOmic Version: 1.6.0 Command: /Library/Frameworks/R.framework/Resources/bin/R CMD check --install=check:mbOmic.install-out.txt --library=/Library/Frameworks/R.framework/Resources/library --no-vignettes --timings mbOmic_1.6.0.tar.gz StartedAt: 2024-04-16 04:54:30 -0400 (Tue, 16 Apr 2024) EndedAt: 2024-04-16 04:59:54 -0400 (Tue, 16 Apr 2024) EllapsedTime: 323.5 seconds RetCode: 1 Status: ERROR CheckDir: mbOmic.Rcheck Warnings: NA