Package: mbOmic Version: 1.6.0 Command: rm -rf mbOmic.buildbin-libdir && mkdir mbOmic.buildbin-libdir && /Users/biocbuild/BBS/utils/build-universal.sh mbOmic_1.6.0.tar.gz /Library/Frameworks/R.framework/Resources/bin/R mbOmic.buildbin-libdir StartedAt: 2024-04-16 12:08:30 -0400 (Tue, 16 Apr 2024) EndedAt: 2024-04-16 12:09:27 -0400 (Tue, 16 Apr 2024) EllapsedTime: 56.5 seconds RetCode: 0 Status: OK PackageFile: mbOmic_1.6.0.tgz PackageFileSize: 782.6 KiB