Package: matter Version: 2.4.1 Command: F:\biocbuild\bbs-3.18-bioc\R\bin\R.exe CMD INSTALL matter StartedAt: 2024-04-15 15:54:15 -0400 (Mon, 15 Apr 2024) EndedAt: 2024-04-15 15:55:22 -0400 (Mon, 15 Apr 2024) EllapsedTime: 66.9 seconds RetCode: 0 Status: OK