Package: matter Version: 2.4.1 Command: rm -rf matter.buildbin-libdir && mkdir matter.buildbin-libdir && F:\biocbuild\bbs-3.18-bioc\R\bin\R.exe CMD INSTALL --build --library=matter.buildbin-libdir matter_2.4.1.tar.gz StartedAt: 2024-04-16 07:14:16 -0400 (Tue, 16 Apr 2024) EndedAt: 2024-04-16 07:15:30 -0400 (Tue, 16 Apr 2024) EllapsedTime: 73.4 seconds RetCode: 0 Status: OK PackageFile: matter_2.4.1.zip PackageFileSize: 2.374 MiB