Package: matter Version: 2.4.1 Command: /Library/Frameworks/R.framework/Resources/bin/R CMD INSTALL matter StartedAt: 2024-04-15 15:38:22 -0400 (Mon, 15 Apr 2024) EndedAt: 2024-04-15 15:39:44 -0400 (Mon, 15 Apr 2024) EllapsedTime: 82.2 seconds RetCode: 0 Status: OK