Package: matter Version: 2.4.1 Command: /Library/Frameworks/R.framework/Resources/bin/R CMD check --install=check:matter.install-out.txt --library=/Library/Frameworks/R.framework/Resources/library --no-vignettes --timings matter_2.4.1.tar.gz StartedAt: 2024-04-16 04:52:39 -0400 (Tue, 16 Apr 2024) EndedAt: 2024-04-16 04:57:08 -0400 (Tue, 16 Apr 2024) EllapsedTime: 269.4 seconds RetCode: 0 Status: OK CheckDir: matter.Rcheck Warnings: 0