Package: matter Version: 2.4.0 Command: /Library/Frameworks/R.framework/Resources/bin/R CMD check --install=check:matter.install-out.txt --library=/Library/Frameworks/R.framework/Resources/library --no-vignettes --timings matter_2.4.0.tar.gz StartedAt: 2024-03-03 21:34:59 -0500 (Sun, 03 Mar 2024) EndedAt: 2024-03-03 21:37:23 -0500 (Sun, 03 Mar 2024) EllapsedTime: 144.1 seconds RetCode: 0 Status: OK CheckDir: matter.Rcheck Warnings: 0