Package: matter Version: 2.4.0 Command: rm -rf matter.buildbin-libdir && mkdir matter.buildbin-libdir && /Users/biocbuild/BBS/utils/build-universal.sh matter_2.4.0.tar.gz /Library/Frameworks/R.framework/Resources/bin/R matter.buildbin-libdir StartedAt: 2024-03-04 00:48:58 -0500 (Mon, 04 Mar 2024) EndedAt: 2024-03-04 00:49:53 -0500 (Mon, 04 Mar 2024) EllapsedTime: 55.6 seconds RetCode: 0 Status: OK PackageFile: matter_2.4.0.tgz PackageFileSize: 2.098 MiB