Package: matchBox Version: 1.44.0 Command: chmod a+r matchBox -R && F:\biocbuild\bbs-3.18-bioc\R\bin\R.exe CMD build --keep-empty-dirs --no-resave-data matchBox StartedAt: 2024-04-15 19:21:21 -0400 (Mon, 15 Apr 2024) EndedAt: 2024-04-15 19:21:38 -0400 (Mon, 15 Apr 2024) EllapsedTime: 16.7 seconds RetCode: 0 Status: OK PackageFile: matchBox_1.44.0.tar.gz PackageFileSize: 605.7 KiB