Package: mastR Version: 1.2.3 Command: F:\biocbuild\bbs-3.18-bioc\R\bin\R.exe CMD INSTALL mastR StartedAt: 2024-04-15 16:47:00 -0400 (Mon, 15 Apr 2024) EndedAt: 2024-04-15 16:47:56 -0400 (Mon, 15 Apr 2024) EllapsedTime: 56.4 seconds RetCode: 0 Status: OK