Package: mastR Version: 1.2.3 Command: chmod a+r mastR -R && F:\biocbuild\bbs-3.18-bioc\R\bin\R.exe CMD build --keep-empty-dirs --no-resave-data mastR StartedAt: 2024-04-15 19:21:17 -0400 (Mon, 15 Apr 2024) EndedAt: 2024-04-15 19:24:47 -0400 (Mon, 15 Apr 2024) EllapsedTime: 210.4 seconds RetCode: 0 Status: OK PackageFile: mastR_1.2.3.tar.gz PackageFileSize: 1.818 MiB