Package: mastR Version: 1.2.3 Command: /home/biocbuild/bbs-3.18-bioc/R/bin/R CMD check --install=check:mastR.install-out.txt --library=/home/biocbuild/bbs-3.18-bioc/R/site-library --timings mastR_1.2.3.tar.gz StartedAt: 2024-04-16 00:29:12 -0400 (Tue, 16 Apr 2024) EndedAt: 2024-04-16 00:42:07 -0400 (Tue, 16 Apr 2024) EllapsedTime: 774.8 seconds RetCode: 0 Status: OK CheckDir: mastR.Rcheck Warnings: 0