Package: mastR Version: 1.2.3 Command: /Library/Frameworks/R.framework/Resources/bin/R CMD build --keep-empty-dirs --no-resave-data mastR StartedAt: 2024-04-15 19:45:47 -0400 (Mon, 15 Apr 2024) EndedAt: 2024-04-15 19:50:57 -0400 (Mon, 15 Apr 2024) EllapsedTime: 309.9 seconds RetCode: 0 Status: OK PackageFile: mastR_1.2.3.tar.gz PackageFileSize: 3.1 MiB