Package: massiR Version: 1.38.0 Command: /home/biocbuild/bbs-3.18-bioc/R/bin/R CMD INSTALL massiR StartedAt: 2024-04-15 15:07:46 -0400 (Mon, 15 Apr 2024) EndedAt: 2024-04-15 15:07:59 -0400 (Mon, 15 Apr 2024) EllapsedTime: 13.6 seconds RetCode: 0 Status: OK