Package: maskBAD Version: 1.46.0 Command: /home/biocbuild/bbs-3.18-bioc/R/bin/R CMD build --keep-empty-dirs --no-resave-data maskBAD StartedAt: 2024-04-15 17:46:35 -0400 (Mon, 15 Apr 2024) EndedAt: 2024-04-15 17:47:56 -0400 (Mon, 15 Apr 2024) EllapsedTime: 81.3 seconds RetCode: 0 Status: OK PackageFile: maskBAD_1.46.0.tar.gz PackageFileSize: 1.366 MiB