Package: maskBAD Version: 1.46.0 Command: rm -rf maskBAD.buildbin-libdir && mkdir maskBAD.buildbin-libdir && /Users/biocbuild/BBS/utils/build-universal.sh maskBAD_1.46.0.tar.gz /Library/Frameworks/R.framework/Resources/bin/R maskBAD.buildbin-libdir StartedAt: 2024-04-16 12:07:37 -0400 (Tue, 16 Apr 2024) EndedAt: 2024-04-16 12:08:13 -0400 (Tue, 16 Apr 2024) EllapsedTime: 36.5 seconds RetCode: 0 Status: OK PackageFile: maskBAD_1.46.0.tgz PackageFileSize: 1.587 MiB