Package: maskBAD Version: 1.46.0 Command: rm -rf maskBAD.buildbin-libdir && mkdir maskBAD.buildbin-libdir && /Users/biocbuild/BBS/utils/build-universal.sh maskBAD_1.46.0.tar.gz /Library/Frameworks/R.framework/Resources/bin/R maskBAD.buildbin-libdir StartedAt: 2024-03-04 00:48:50 -0500 (Mon, 04 Mar 2024) EndedAt: 2024-03-04 00:49:10 -0500 (Mon, 04 Mar 2024) EllapsedTime: 20.7 seconds RetCode: 0 Status: OK PackageFile: maskBAD_1.46.0.tgz PackageFileSize: 1.587 MiB