Package: maser Version: 1.20.0 Command: F:\biocbuild\bbs-3.18-bioc\R\bin\R.exe CMD INSTALL maser StartedAt: 2024-04-15 16:16:36 -0400 (Mon, 15 Apr 2024) EndedAt: 2024-04-15 16:17:47 -0400 (Mon, 15 Apr 2024) EllapsedTime: 70.1 seconds RetCode: 0 Status: OK