Package: marray Version: 1.80.0 Command: F:\biocbuild\bbs-3.18-bioc\R\bin\R.exe CMD INSTALL marray StartedAt: 2024-04-15 15:41:07 -0400 (Mon, 15 Apr 2024) EndedAt: 2024-04-15 15:41:31 -0400 (Mon, 15 Apr 2024) EllapsedTime: 24.0 seconds RetCode: 0 Status: OK