Package: marray Version: 1.80.0 Command: chmod a+r marray -R && F:\biocbuild\bbs-3.18-bioc\R\bin\R.exe CMD build --keep-empty-dirs --no-resave-data marray StartedAt: 2024-04-15 19:20:21 -0400 (Mon, 15 Apr 2024) EndedAt: 2024-04-15 19:21:37 -0400 (Mon, 15 Apr 2024) EllapsedTime: 75.3 seconds RetCode: 0 Status: OK PackageFile: marray_1.80.0.tar.gz PackageFileSize: 4.845 MiB