Package: marray Version: 1.80.0 Command: /Library/Frameworks/R.framework/Resources/bin/R CMD INSTALL marray StartedAt: 2024-03-03 15:06:59 -0500 (Sun, 03 Mar 2024) EndedAt: 2024-03-03 15:07:27 -0500 (Sun, 03 Mar 2024) EllapsedTime: 28.5 seconds RetCode: 0 Status: OK