Package: marray Version: 1.80.0 Command: /home/biocbuild/R/R-4.3.1/bin/R CMD check --install=check:marray.install-out.txt --library=/home/biocbuild/R/R-4.3.1/site-library --no-vignettes --timings marray_1.80.0.tar.gz StartedAt: 2023-11-02 11:49:23 -0000 (Thu, 02 Nov 2023) EndedAt: 2023-11-02 11:50:24 -0000 (Thu, 02 Nov 2023) EllapsedTime: 61.1 seconds RetCode: 0 Status: OK CheckDir: marray.Rcheck Warnings: 0