Package: mapscape Version: 1.26.0 Command: chmod a+r mapscape -R && F:\biocbuild\bbs-3.18-bioc\R\bin\R.exe CMD build --keep-empty-dirs --no-resave-data mapscape StartedAt: 2024-04-15 19:20:05 -0400 (Mon, 15 Apr 2024) EndedAt: 2024-04-15 19:20:20 -0400 (Mon, 15 Apr 2024) EllapsedTime: 15.5 seconds RetCode: 0 Status: OK PackageFile: mapscape_1.26.0.tar.gz PackageFileSize: 4.795 MiB