Package: mapscape Version: 1.26.0 Command: /home/biocbuild/bbs-3.18-bioc/R/bin/R CMD check --install=check:mapscape.install-out.txt --library=/home/biocbuild/bbs-3.18-bioc/R/site-library --timings mapscape_1.26.0.tar.gz StartedAt: 2024-04-16 00:26:37 -0400 (Tue, 16 Apr 2024) EndedAt: 2024-04-16 00:27:02 -0400 (Tue, 16 Apr 2024) EllapsedTime: 24.6 seconds RetCode: 0 Status: WARNINGS CheckDir: mapscape.Rcheck Warnings: 1