Package: mapscape Version: 1.26.0 Command: /Library/Frameworks/R.framework/Resources/bin/R CMD build --keep-empty-dirs --no-resave-data mapscape StartedAt: 2024-03-03 17:14:47 -0500 (Sun, 03 Mar 2024) EndedAt: 2024-03-03 17:15:01 -0500 (Sun, 03 Mar 2024) EllapsedTime: 13.5 seconds RetCode: 0 Status: OK PackageFile: mapscape_1.26.0.tar.gz PackageFileSize: 4.794 MiB