Package: maigesPack Version: 1.66.0 Command: rm -rf maigesPack.buildbin-libdir && mkdir maigesPack.buildbin-libdir && F:\biocbuild\bbs-3.18-bioc\R\bin\R.exe CMD INSTALL --build --library=maigesPack.buildbin-libdir maigesPack_1.66.0.tar.gz StartedAt: 2024-04-16 07:13:37 -0400 (Tue, 16 Apr 2024) EndedAt: 2024-04-16 07:14:00 -0400 (Tue, 16 Apr 2024) EllapsedTime: 23.1 seconds RetCode: 0 Status: OK PackageFile: maigesPack_1.66.0.zip PackageFileSize: 1.506 MiB