Package: magrene Version: 1.4.0 Command: /Library/Frameworks/R.framework/Resources/bin/R CMD build --keep-empty-dirs --no-resave-data magrene StartedAt: 2024-04-15 19:43:35 -0400 (Mon, 15 Apr 2024) EndedAt: 2024-04-15 19:45:05 -0400 (Mon, 15 Apr 2024) EllapsedTime: 90.9 seconds RetCode: 0 Status: OK PackageFile: magrene_1.4.0.tar.gz PackageFileSize: 2.256 MiB