Package: maftools Version: 2.18.0 Command: rm -rf maftools.buildbin-libdir && mkdir maftools.buildbin-libdir && F:\biocbuild\bbs-3.18-bioc\R\bin\R.exe CMD INSTALL --build --library=maftools.buildbin-libdir maftools_2.18.0.tar.gz StartedAt: 2024-04-16 07:13:27 -0400 (Tue, 16 Apr 2024) EndedAt: 2024-04-16 07:14:03 -0400 (Tue, 16 Apr 2024) EllapsedTime: 36.3 seconds RetCode: 0 Status: OK PackageFile: maftools_2.18.0.zip PackageFileSize: 13.25 MiB