Package: maftools Version: 2.18.0 Command: /Library/Frameworks/R.framework/Resources/bin/R CMD build --keep-empty-dirs --no-resave-data maftools StartedAt: 2024-04-15 19:43:02 -0400 (Mon, 15 Apr 2024) EndedAt: 2024-04-15 19:49:38 -0400 (Mon, 15 Apr 2024) EllapsedTime: 396.4 seconds RetCode: 0 Status: OK PackageFile: maftools_2.18.0.tar.gz PackageFileSize: 12.2 MiB