Package: made4 Version: 1.76.0 Command: /Library/Frameworks/R.framework/Resources/bin/R CMD build --keep-empty-dirs --no-resave-data made4 StartedAt: 2024-03-03 17:14:01 -0500 (Sun, 03 Mar 2024) EndedAt: 2024-03-03 17:14:50 -0500 (Sun, 03 Mar 2024) EllapsedTime: 49.8 seconds RetCode: 0 Status: OK PackageFile: made4_1.76.0.tar.gz PackageFileSize: 2.402 MiB