Package: made4 Version: 1.76.0 Command: /home/biocbuild/R/R-4.3.1/bin/R CMD INSTALL made4 StartedAt: 2023-11-01 20:13:14 -0000 (Wed, 01 Nov 2023) EndedAt: 2023-11-01 20:13:44 -0000 (Wed, 01 Nov 2023) EllapsedTime: 30.0 seconds RetCode: 0 Status: OK