Package: macat Version: 1.76.0 Command: rm -rf macat.buildbin-libdir && mkdir macat.buildbin-libdir && F:\biocbuild\bbs-3.18-bioc\R\bin\R.exe CMD INSTALL --build --library=macat.buildbin-libdir macat_1.76.0.tar.gz StartedAt: 2024-04-16 07:13:19 -0400 (Tue, 16 Apr 2024) EndedAt: 2024-04-16 07:13:50 -0400 (Tue, 16 Apr 2024) EllapsedTime: 30.7 seconds RetCode: 0 Status: OK PackageFile: macat_1.76.0.zip PackageFileSize: 923.7 KiB