Package: macat Version: 1.76.0 Command: /Library/Frameworks/R.framework/Resources/bin/R CMD INSTALL macat StartedAt: 2024-04-15 15:30:05 -0400 (Mon, 15 Apr 2024) EndedAt: 2024-04-15 15:30:38 -0400 (Mon, 15 Apr 2024) EllapsedTime: 32.9 seconds RetCode: 0 Status: OK