Package: macat Version: 1.76.0 Command: /Library/Frameworks/R.framework/Resources/bin/R CMD build --keep-empty-dirs --no-resave-data macat StartedAt: 2024-04-15 19:42:37 -0400 (Mon, 15 Apr 2024) EndedAt: 2024-04-15 19:43:29 -0400 (Mon, 15 Apr 2024) EllapsedTime: 52.1 seconds RetCode: 0 Status: OK PackageFile: macat_1.76.0.tar.gz PackageFileSize: 1.111 MiB