Package: macat Version: 1.76.0 Command: rm -rf macat.buildbin-libdir && mkdir macat.buildbin-libdir && /Users/biocbuild/BBS/utils/build-universal.sh macat_1.76.0.tar.gz /Library/Frameworks/R.framework/Resources/bin/R macat.buildbin-libdir StartedAt: 2024-03-04 00:48:25 -0500 (Mon, 04 Mar 2024) EndedAt: 2024-03-04 00:48:48 -0500 (Mon, 04 Mar 2024) EllapsedTime: 23.8 seconds RetCode: 0 Status: OK PackageFile: macat_1.76.0.tgz PackageFileSize: 1.033 MiB