Package: macat Version: 1.76.0 Command: /home/biocbuild/R/R-4.3.1/bin/R CMD build --keep-empty-dirs --no-resave-data macat StartedAt: 2023-11-02 02:45:58 -0000 (Thu, 02 Nov 2023) EndedAt: 2023-11-02 02:46:25 -0000 (Thu, 02 Nov 2023) EllapsedTime: 27.0 seconds RetCode: 0 Status: OK PackageFile: macat_1.76.0.tar.gz PackageFileSize: 1.102 MiB