Package: maanova Version: 1.69.1 Command: /home/biocbuild/bbs-3.18-bioc/R/bin/R CMD INSTALL maanova StartedAt: 2023-04-20 03:03:40 -0400 (Thu, 20 Apr 2023) EndedAt: 2023-04-20 03:03:45 -0400 (Thu, 20 Apr 2023) EllapsedTime: 4.8 seconds RetCode: 1 Status: ERROR