Package: mCSEA Version: 1.22.0 Command: /home/biocbuild/bbs-3.18-bioc/R/bin/R CMD check --install=check:mCSEA.install-out.txt --library=/home/biocbuild/bbs-3.18-bioc/R/site-library --timings mCSEA_1.22.0.tar.gz StartedAt: 2024-04-16 00:31:59 -0400 (Tue, 16 Apr 2024) EndedAt: 2024-04-16 00:43:06 -0400 (Tue, 16 Apr 2024) EllapsedTime: 667.3 seconds RetCode: 0 Status: OK CheckDir: mCSEA.Rcheck Warnings: 0