Package: mBPCR Version: 1.56.0 Command: F:\biocbuild\bbs-3.18-bioc\R\bin\R.exe CMD INSTALL mBPCR StartedAt: 2024-04-15 16:31:23 -0400 (Mon, 15 Apr 2024) EndedAt: 2024-04-15 16:32:04 -0400 (Mon, 15 Apr 2024) EllapsedTime: 41.5 seconds RetCode: 0 Status: OK