Package: mAPKL Version: 1.32.0 Command: F:\biocbuild\bbs-3.18-bioc\R\bin\R.exe CMD INSTALL mAPKL StartedAt: 2024-04-15 16:28:21 -0400 (Mon, 15 Apr 2024) EndedAt: 2024-04-15 16:28:48 -0400 (Mon, 15 Apr 2024) EllapsedTime: 27.1 seconds RetCode: 0 Status: OK