Package: mAPKL Version: 1.32.0 Command: /Library/Frameworks/R.framework/Resources/bin/R CMD INSTALL mAPKL StartedAt: 2024-04-15 16:15:39 -0400 (Mon, 15 Apr 2024) EndedAt: 2024-04-15 16:16:21 -0400 (Mon, 15 Apr 2024) EllapsedTime: 42.4 seconds RetCode: 0 Status: OK