Package: mAPKL Version: 1.32.0 Command: /home/biocbuild/R/R-4.3.1/bin/R CMD build --keep-empty-dirs --no-resave-data mAPKL StartedAt: 2023-11-02 02:50:11 -0000 (Thu, 02 Nov 2023) EndedAt: 2023-11-02 02:50:46 -0000 (Thu, 02 Nov 2023) EllapsedTime: 35.0 seconds RetCode: 1 Status: ERROR PackageFile: None PackageFileSize: NA