Package: mAPKL Version: 1.32.0 Maintainer: Argiris Sakellariou MaintainerEmail: argisake at gmail.com git_url: https://git.bioconductor.org/packages/mAPKL git_branch: RELEASE_3_18 git_last_commit: b2b6b36 git_last_commit_date: 2023-10-24 10:41:04 -0400 (Tue, 24 Oct 2023)