Package: m6Aboost Version: 1.8.0 Command: chmod a+r m6Aboost -R && F:\biocbuild\bbs-3.18-bioc\R\bin\R.exe CMD build --keep-empty-dirs --no-resave-data m6Aboost StartedAt: 2024-04-15 19:18:15 -0400 (Mon, 15 Apr 2024) EndedAt: 2024-04-15 19:19:53 -0400 (Mon, 15 Apr 2024) EllapsedTime: 98.0 seconds RetCode: 0 Status: OK PackageFile: m6Aboost_1.8.0.tar.gz PackageFileSize: 759.7 KiB