Package: m6Aboost Version: 1.8.0 Command: rm -rf m6Aboost.buildbin-libdir && mkdir m6Aboost.buildbin-libdir && F:\biocbuild\bbs-3.18-bioc\R\bin\R.exe CMD INSTALL --build --library=m6Aboost.buildbin-libdir m6Aboost_1.8.0.tar.gz StartedAt: 2024-04-16 07:13:15 -0400 (Tue, 16 Apr 2024) EndedAt: 2024-04-16 07:14:10 -0400 (Tue, 16 Apr 2024) EllapsedTime: 55.2 seconds RetCode: 0 Status: OK PackageFile: m6Aboost_1.8.0.zip PackageFileSize: 578.2 KiB