Package: m6Aboost Version: 1.8.0 Command: /Library/Frameworks/R.framework/Resources/bin/R CMD INSTALL m6Aboost StartedAt: 2024-03-03 15:45:10 -0500 (Sun, 03 Mar 2024) EndedAt: 2024-03-03 15:46:13 -0500 (Sun, 03 Mar 2024) EllapsedTime: 63.6 seconds RetCode: 0 Status: OK