Package: m6Aboost Version: 1.8.0 Command: /Library/Frameworks/R.framework/Resources/bin/R CMD build --keep-empty-dirs --no-resave-data m6Aboost StartedAt: 2024-03-03 17:13:40 -0500 (Sun, 03 Mar 2024) EndedAt: 2024-03-03 17:15:15 -0500 (Sun, 03 Mar 2024) EllapsedTime: 95.0 seconds RetCode: 0 Status: OK PackageFile: m6Aboost_1.8.0.tar.gz PackageFileSize: 759.6 KiB