Package: m6Aboost Version: 1.8.0 Command: /home/biocbuild/R/R-4.3.1/bin/R CMD INSTALL m6Aboost StartedAt: 2023-11-01 21:03:55 -0000 (Wed, 01 Nov 2023) EndedAt: 2023-11-01 21:04:57 -0000 (Wed, 01 Nov 2023) EllapsedTime: 62.4 seconds RetCode: 0 Status: OK