Package: m6Aboost Version: 1.8.0 Command: /home/biocbuild/R/R-4.3.1/bin/R CMD check --install=check:m6Aboost.install-out.txt --library=/home/biocbuild/R/R-4.3.1/site-library --timings m6Aboost_1.8.0.tar.gz StartedAt: 2023-10-25 12:48:41 -0000 (Wed, 25 Oct 2023) EndedAt: 2023-10-25 12:56:34 -0000 (Wed, 25 Oct 2023) EllapsedTime: 473.8 seconds RetCode: 0 Status: OK CheckDir: m6Aboost.Rcheck Warnings: 0