Package: logicFS Version: 2.22.0 Command: rm -rf logicFS.buildbin-libdir && mkdir logicFS.buildbin-libdir && F:\biocbuild\bbs-3.18-bioc\R\bin\R.exe CMD INSTALL --build --library=logicFS.buildbin-libdir logicFS_2.22.0.tar.gz StartedAt: 2024-04-16 07:12:51 -0400 (Tue, 16 Apr 2024) EndedAt: 2024-04-16 07:13:15 -0400 (Tue, 16 Apr 2024) EllapsedTime: 24.0 seconds RetCode: 0 Status: OK PackageFile: logicFS_2.22.0.zip PackageFileSize: 509 KiB